BEGIN:VCALENDAR
PRODID:-//Microsoft Corporation//Outlook MIMEDIR//EN
VERSION:2.0
METHOD:PUBLISH
BEGIN:VEVENT
DTSTART:20260423T150000
DTEND:20260423T160000
DESCRIPTION:
LOCATION:Convent Hill Community Room, First Floor 455 East Ogden, Milwaukee, WI
SUMMARY:TRAVAUX INC. BOARD OF DIRECTORS
CATEGORIES:MEETING
END:VEVENT
END:VCALENDAR
